BEGIN:VCALENDAR
VERSION:2.0
PRODID:-//ChamberMaster//Event Calendar 2.0//EN
METHOD:PUBLISH
X-PUBLISHED-TTL:P1H
REFRESH-INTERVAL:P1H
CALSCALE:GREGORIAN
BEGIN:VTIMEZONE
TZID:America/Chicago
BEGIN:DAYLIGHT
RRULE:FREQ=YEARLY;BYMONTH=3;BYDAY=2SU
DTSTART:20070101T000000
TZOFFSETFROM:-0600
TZOFFSETTO:-0500
TZNAME:Central Daylight Time
END:DAYLIGHT
BEGIN:STANDARD
RRULE:FREQ=YEARLY;BYMONTH=11;BYDAY=1SU
DTSTART:20070101T000000
TZOFFSETFROM:-0500
TZOFFSETTO:-0600
TZNAME:Central Standard Time
END:STANDARD
END:VTIMEZONE
BEGIN:VEVENT
DTSTART;TZID=America/Chicago:20260505T170000
DTEND;TZID=America/Chicago:20260505T210000
X-MICROSOFT-CDO-ALLDAYEVENT:FALSE
SUMMARY:Here for All of It: Live Show
DESCRIPTION:Join Tracy Spears and Shannon Smith for an unforgettable evening at the next Here For All Of It Live! Get ready for exclusive\, never-before-heard stories\, plenty of laughs\, and the kind of real\, unfiltered connection you can only experience in person. Sip drinks\, soak in the electric atmosphere\, and see firsthand why this community is so special. If you're a fan of the podcast\, this is more than an event it's your chance to meet the hosts\, connect with fellow besties\, and be part of a night you'll talk about long after it ends. This special night takes place at Sue Ellen's celebrated as one of Dallas's first LGBTQ+ bars\, established in 1989\, and a beloved historic hotspot. Known as an iconic cornerstone of the city's nightlife scene\, it's the perfect backdrop for a night all about community\, connection\, and celebration.Buy Tickets!Meet Tracy & ShannonWe're Tracy Spears and Shannon Smith\, two 60-year-old women navigating life\,love\, and everything in between out loud. Whether we're sharing our unexpected lovestory or talking about reinvention\, aging\, and showing up fully\, our podcast is a reminderthat it's never too late to start again\, we're here for all of it.Here For All Of It Podcast is hosted by Tracy Spears and Shannon Smith sharingtheir stories so you can unapologetically live yours.
X-ALT-DESC;FMTTYPE=text/html:<!DOCTYPE html><html><head><title></title></head><body aria-disabled="false"><p>Join Tracy Spears and Shannon Smith for an unforgettable evening at the next Here For All Of It Live!&nbsp\;</p><p>Get ready for exclusive\, never-before-heard stories\, plenty of laughs\, and the kind of real\, unfiltered connection you can only experience in person. Sip drinks\, soak in the electric atmosphere\, and see firsthand why this community is so special.&nbsp\;</p><p>If you&rsquo\;re a fan of the podcast\, this is more than an event&mdash\;it&rsquo\;s your chance to meet the hosts\, connect with fellow besties\, and be part of a night you&rsquo\;ll talk about long after it ends.&nbsp\;</p><p>This special night takes place at Sue Ellen&rsquo\;s&mdash\;celebrated as one of Dallas&rsquo\;s first LGBTQ+ bars\, established in 1989\, and a beloved historic hotspot. Known as an iconic cornerstone of the city&rsquo\;s nightlife scene\, it&rsquo\;s the perfect backdrop for a night all about community\, connection\, and celebration.</p><p><a fr-original-style="" href="https://hereforallofit.net/product/here-for-all-of-it-meet-greet-live-qa-dallas/" style="user-select: auto\;"><span style="font-size: 18px\;">Buy Tickets!</span></a></p><div data-e-type="widget" data-element_type="widget" data-id="acb5555" data-widget_type="heading.default" style='box-sizing: border-box\; font-family: "Instrument Sans"\, sans-serif\; --flex-direction: initial\; --flex-wrap: initial\; --justify-content: initial\; --align-items: initial\; --align-content: initial\; --gap: initial\; --flex-basis: initial\; --flex-grow: initial\; --flex-shrink: initial\; --order: initial\; --align-self: initial\; align-self: auto\; flex: 0 1 auto\; order: 0\; place-content: normal\; align-items: normal\; flex-flow: row\; gap: 24px\; position: relative\; --widgets-spacing: 16px 16px\; --widgets-spacing-row: 16px\; --widgets-spacing-column: 16px\; --swiper-theme-color: #000\; --swiper-navigation-size: 44px\; --swiper-pagination-bullet-size: 6px\; --swiper-pagination-bullet-horizontal-gap: 6px\; margin-block-end: 0px\; min-width: 0px\; transition: background 0.3s\, border 0.3s\, border-radius 0.3s\, box-shadow 0.3s\, transform 0.4s\; --kit-widget-spacing: 0px\; text-align: center\; max-width: 100%\; color: rgb(0\, 0\, 0)\; font-size: 16px\; font-style: normal\; font-variant-ligatures: normal\; font-variant-caps: normal\; font-weight: 400\; letter-spacing: normal\; orphans: 2\; text-indent: 0px\; text-transform: none\; widows: 2\; word-spacing: 0px\; -webkit-text-stroke-width: 0px\; white-space: normal\; background-color: rgb(255\, 255\, 255)\; text-decoration-thickness: initial\; text-decoration-style: initial\; text-decoration-color: initial\;'><h2 style='box-sizing: border-box\; font-family: "Instrument Sans"\, sans-serif\; color: rgb(0\, 0\, 0)\; font-weight: 700\; line-height: 50px\; margin-block: 0.5rem 1rem\; font-size: 40px\; margin: 0px\; padding: 0px\;'>Meet Tracy &amp\; Shannon</h2></div><div data-e-type="widget" data-element_type="widget" data-id="ea32304" data-widget_type="text-editor.default" style='box-sizing: border-box\; font-family: "Instrument Sans"\, sans-serif\; --flex-direction: initial\; --flex-wrap: initial\; --justify-content: initial\; --align-items: initial\; --align-content: initial\; --gap: initial\; --flex-basis: initial\; --flex-grow: initial\; --flex-shrink: initial\; --order: initial\; --align-self: initial\; align-self: auto\; flex: 0 1 auto\; order: 0\; place-content: normal\; align-items: normal\; flex-flow: row\; gap: 24px\; position: relative\; --widgets-spacing: 16px 16px\; --widgets-spacing-row: 16px\; --widgets-spacing-column: 16px\; --swiper-theme-color: #000\; --swiper-navigation-size: 44px\; --swiper-pagination-bullet-size: 6px\; --swiper-pagination-bullet-horizontal-gap: 6px\; font-weight: 400\; color: rgb(88\, 89\, 91)\; min-width: 0px\; transition: background 0.3s\, border 0.3s\, border-radius 0.3s\, box-shadow 0.3s\, transform 0.4s\; margin-block-end: 0px\; text-align: center\; font-size: 18px\; max-width: 100%\; font-style: normal\; font-variant-ligatures: normal\; font-variant-caps: normal\; letter-spacing: normal\; orphans: 2\; text-indent: 0px\; text-transform: none\; widows: 2\; word-spacing: 0px\; -webkit-text-stroke-width: 0px\; white-space: normal\; background-color: rgb(255\, 255\, 255)\; text-decoration-thickness: initial\; text-decoration-style: initial\; text-decoration-color: initial\;'><p style='box-sizing: border-box\; font-family: "Instrument Sans"\, sans-serif\; margin-block: 0px 1em\;'>We&rsquo\;re Tracy Spears and Shannon Smith\, two 60-year-old women navigating life\,<span style='box-sizing: border-box\; font-family: "Instrument Sans"\, sans-serif\; display: block\;'>love\, and everything in between out loud. Whether we&rsquo\;re sharing our unexpected love</span>story or talking about reinvention\, aging\, and showing up fully\, our podcast is a reminder<span style='box-sizing: border-box\; font-family: "Instrument Sans"\, sans-serif\; display: block\;'>that it&rsquo\;s never too late to start again\, we&rsquo\;re here for all of it.</span></p><p style='box-sizing: border-box\; font-family: "Instrument Sans"\, sans-serif\; margin-block: 0px 1em\; margin-bottom: 0px\;'>Here For All Of It Podcast is hosted by Tracy Spears and Shannon Smith sharing<span style='box-sizing: border-box\; font-family: "Instrument Sans"\, sans-serif\; display: block\;'>their stories so you can unapologetically live yours.</span></p><p style='box-sizing: border-box\; font-family: "Instrument Sans"\, sans-serif\; margin-block: 0px 1em\; margin-bottom: 0px\;'><br></p><p style='box-sizing: border-box\; font-family: "Instrument Sans"\, sans-serif\; margin-block: 0px 1em\; margin-bottom: 0px\;'><br></p></div></body></html>
LOCATION:3014 Cedar Springs Road Dallas TX 75219
UID:e.3746.1446625
SEQUENCE:3
DTSTAMP:20260421T113924Z
URL:https://business.lgbtchamber.com/community-events/Details/here-for-all-of-it-live-show-1713399?sourceTypeId=Hub
END:VEVENT
END:VCALENDAR
